BEGIN:VCALENDAR
VERSION:2.0
PRODID:-//City of Irrigon - ECPv6.15.17.1//NONSGML v1.0//EN
CALSCALE:GREGORIAN
METHOD:PUBLISH
X-WR-CALNAME:City of Irrigon
X-ORIGINAL-URL:https://ci.irrigon.or.us
X-WR-CALDESC:Events for City of Irrigon
REFRESH-INTERVAL;VALUE=DURATION:PT1H
X-Robots-Tag:noindex
X-PUBLISHED-TTL:PT1H
BEGIN:VTIMEZONE
TZID:America/Chicago
BEGIN:DAYLIGHT
TZOFFSETFROM:-0600
TZOFFSETTO:-0500
TZNAME:CDT
DTSTART:20230312T080000
END:DAYLIGHT
BEGIN:STANDARD
TZOFFSETFROM:-0500
TZOFFSETTO:-0600
TZNAME:CST
DTSTART:20231105T070000
END:STANDARD
BEGIN:DAYLIGHT
TZOFFSETFROM:-0600
TZOFFSETTO:-0500
TZNAME:CDT
DTSTART:20240310T080000
END:DAYLIGHT
BEGIN:STANDARD
TZOFFSETFROM:-0500
TZOFFSETTO:-0600
TZNAME:CST
DTSTART:20241103T070000
END:STANDARD
BEGIN:DAYLIGHT
TZOFFSETFROM:-0600
TZOFFSETTO:-0500
TZNAME:CDT
DTSTART:20250309T080000
END:DAYLIGHT
BEGIN:STANDARD
TZOFFSETFROM:-0500
TZOFFSETTO:-0600
TZNAME:CST
DTSTART:20251102T070000
END:STANDARD
END:VTIMEZONE
BEGIN:VEVENT
DTSTART;TZID=America/Chicago:20240502T180000
DTEND;TZID=America/Chicago:20240502T190000
DTSTAMP:20260425T171508
CREATED:20240426T143303Z
LAST-MODIFIED:20240430T204240Z
UID:4450-1714672800-1714676400@ci.irrigon.or.us
SUMMARY:Budget Committee Meeting
DESCRIPTION:A public meeting of the Budget Committee of the City of Irrigon\, State of Oregon\, to discuss the budget for the fiscal year July 1\, 2024 to June 30\, 2025\, will be held at Irrigon City Hall 500 NE Main Avenue in Irrigon Oregon 97844.  The meeting may also be joined via Zoom \nhttps://us02web.zoom.us/j/5419223047?pwd=M2tqWGk3ajc4aVhtelhSeTVGdWk0Zz09&omn=86204371205 \nMeeting ID: 541 922 3047  Passcode: 3d@k8rmH \nThe meeting will take place on May 2\, 2024\, at 6:00 pm. The purpose of the meeting is to receive the budget message and to receive comment from the public on the budget and state revenue sharing. Public comment may be submitted in writing before 5:00 pm on May 1\, 2024\, via email to finance@ci.irrigon.or.us; mail to 500 NE Main Ave\, Irrigon\, OR 97844 or drop box at 500 NE Main Avenue. \nThis is a public meeting where deliberation by the Budget Committee will take place. Any person may join the meeting and discuss the proposed programs with the Budget Committee. \nA copy of the budget document may be inspected or obtained on or after April 26\, 2024\, at 500 NE Main Avenue\, Irrigon\, OR\, between the hours of 8:00 am and 5:00 pm.  
URL:https://ci.irrigon.or.us/event/budget-committee-meeting-5/
CATEGORIES:Budget
END:VEVENT
BEGIN:VEVENT
DTSTART;TZID=America/Chicago:20240521T180000
DTEND;TZID=America/Chicago:20240521T190000
DTSTAMP:20260425T171508
CREATED:20230329T190818Z
LAST-MODIFIED:20230329T190818Z
UID:508-1716314400-1716318000@ci.irrigon.or.us
SUMMARY:City Council Meeting
DESCRIPTION:
URL:https://ci.irrigon.or.us/event/city-council-meeting-3/2024-05-21/
LOCATION:City Hall Building\, 500 NE Main Ave\, Irrigon\, OR\, 97844\, United States
CATEGORIES:City Council
END:VEVENT
END:VCALENDAR